BEGIN:VCALENDAR
VERSION:2.0
PRODID:-//PB Bruchterveld - Ebbenbroek - ECPv6.15.20//NONSGML v1.0//EN
CALSCALE:GREGORIAN
METHOD:PUBLISH
X-WR-CALNAME:PB Bruchterveld - Ebbenbroek
X-ORIGINAL-URL:https://www.broekernieuws.nl
X-WR-CALDESC:Evenementen voor PB Bruchterveld - Ebbenbroek
REFRESH-INTERVAL;VALUE=DURATION:PT1H
X-Robots-Tag:noindex
X-PUBLISHED-TTL:PT1H
BEGIN:VTIMEZONE
TZID:Europe/Paris
BEGIN:DAYLIGHT
TZOFFSETFROM:+0100
TZOFFSETTO:+0200
TZNAME:CEST
DTSTART:20250330T010000
END:DAYLIGHT
BEGIN:STANDARD
TZOFFSETFROM:+0200
TZOFFSETTO:+0100
TZNAME:CET
DTSTART:20251026T010000
END:STANDARD
BEGIN:DAYLIGHT
TZOFFSETFROM:+0100
TZOFFSETTO:+0200
TZNAME:CEST
DTSTART:20260329T010000
END:DAYLIGHT
BEGIN:STANDARD
TZOFFSETFROM:+0200
TZOFFSETTO:+0100
TZNAME:CET
DTSTART:20261025T010000
END:STANDARD
BEGIN:DAYLIGHT
TZOFFSETFROM:+0100
TZOFFSETTO:+0200
TZNAME:CEST
DTSTART:20270328T010000
END:DAYLIGHT
BEGIN:STANDARD
TZOFFSETFROM:+0200
TZOFFSETTO:+0100
TZNAME:CET
DTSTART:20271031T010000
END:STANDARD
END:VTIMEZONE
BEGIN:VEVENT
DTSTART;TZID=Europe/Paris:20260520T200000
DTEND;TZID=Europe/Paris:20260520T220000
DTSTAMP:20260425T145501
CREATED:20260310T195250Z
LAST-MODIFIED:20260423T193004Z
UID:7634-1779307200-1779314400@www.broekernieuws.nl
SUMMARY:Algemene leden vergadering Plaatselijk Belang Bruchterveld
DESCRIPTION:Op woensdag 20 mei 2026 staat er een algemene ledenvergadering van het Plaatselijk Belang Bruchterveld gepland. We hopen dat u tijd vrij kan maken om gezamenlijk een paar belangrijke onderwerpen met ons door te nemen. We vragen om en nabij 1.5 uur van uw tijd\, zou dat lukken?  \nDaarnaast geeft Platform Veilig Ondernemen Oost-Nederland (PVO) een interessante presentatie over “Veilig buitengebied: een zaak van ons allemaal!” \nWe hopen op een grote opkomst! Bent u bereid om mee te denken? Met input van de inwoners staan we als dorp en als Plaatselijk Belang sterker naar andere partijen! \n📅 Wanneer: woensdag 20 mei 2026 \n📍 Waar: Dorpshuis ‘de Heujmansbelt’ \n⏱   Aanvang: 20.00 uur met inloop vanaf 19.30 uur \nKoffie/thee en wat lekkers staan voor u klaar en na afloop een drankje naar keuze. \nAgenda  \n\nOpening\nNieuwe en aftredende bestuursleden\nVerslag en financieel jaarverslag 2025\nCommunicatie (hoe in ons dorp informatie delen)\nWoningbouw (stand van zaken en toekomst)\nDorpsvisie (de visie van 2016 is aan vervanging toe)\nAantal lopende zaken/thema’s\nRondvraag\nPresentatie van PVO
URL:https://www.broekernieuws.nl/event/algemene-leden-vergadering-plaatselijk-belang-bruchterveld/
LOCATION:Dorpshuis de Heujmansbelt\, Wijkstraat 2a\, Bruchterveld\, 7695TJ\, Netherlands
END:VEVENT
END:VCALENDAR